Workbook

Sheet 申込書
J1: 作成日
B2: 国立大学法人秋田大学長 殿
G3: 機関住所
G4: 機関名称
G5: 代表者役職
G6: 代表者氏名
B8: 受 託 研 究 申 込 書
A10: 国立大学法人秋田大学受託研究取扱規程第４条に定める条件を遵守の上，下記のとおり受託研究の申込みをします。
B11: 記
B13: (1)研究題目
B14: (2)研究目的及び内容
B15: (4)大学研究代表者 | D15: 所属 （選択式） | E15: 【プルダウン】 | H15: 氏名 | M15: 職名 （選択式） | N15: 【プルダウン】
B16: (4)秋田大学に提供する研究費
B17: ※①～④より、該当する「支払時期・方法方法」について、直接経費・間接経費額を記入してください。
B18: 支払時期・方法 | D18: 直接経費 | G18: 間接経費 | J18: 研究経費 | M18: うち消費税額
B19: ①概算払:契約締結時 | F19: 円 | I19: 円 | J19: =SUM(D19,G19) -> 0 | L19: 円 | M19: =ROUNDDOWN(R19,0) -> 0 | O19: 円 | R19: =J19/110*10 -> 0
B20: ②精算払:症例登録 （研究終了時） | D20: （１症例あたり） | G20: （１症例あたり） | J20: （１症例あたり）
F21: 円 | I21: 円 | J21: =SUM(D20,G20) -> 0 | L21: 円 | M21: =ROUNDDOWN(R21,0) -> 0 | O21: 円 | R21: =J21/110*10 -> 0
B22: ③マイルストーン払:
B23: １回目 | F23: 円 | I23: 円 | J23: =SUM(D23,G23) -> 0 | L23: 円 | M23: =ROUNDDOWN(R23,0) -> 0 | O23: 円 | R23: =J23/110*10 -> 0
B24: ２回目 | F24: 円 | I24: 円 | J24: =SUM(D24,G24) -> 0 | L24: 円 | M24: =ROUNDDOWN(R24,0) -> 0 | O24: 円 | R24: =J24/110*10 -> 0
B25: ３回目 | F25: 円 | I25: 円 | J25: =SUM(D25,G25) -> 0 | L25: 円 | M25: =ROUNDDOWN(R25,0) -> 0 | O25: 円 | R25: =J25/110*10 -> 0
B26: 総額 | D26: =SUM(D23:E25) -> 0 | F26: 円 | G26: =SUM(G23:H25) -> 0 | I26: 円 | J26: =SUM(J23:K25) -> 0 | L26: 円 | M26: =SUM(M23:N25) -> 0 | O26: 円 | R26: =J26/110*10 -> 0
B27: ④その他 （自由記述）
B28: (5)研究期間 | F28: ～
B29: (6)提供物品 | D29: 【プルダウン】 | G29: →「あり」の場合 その具体的な内容
B30: (7)企業情報
B31: 主な事業内容 | J31: 企業・団体区分 （選択式） | L31: 【プルダウン】
B32: 担当者連絡先 ①と②の宛先が同じ場合②は記載不要。 | F32: ①契約調整担当者 | J32: ②書類送付連絡先
D33: 氏名
D34: 所属部署名
D35: 郵便番号
D36: 住所
D37: 建物名
D38: 電話番号
D39: メールアドレス
B40: (8)外部に開示して差し支えのある情報 | D40: 【プルダウン】 | F40: →「あり」の場合 その具体的な内容
B41: (9)特記事項 | I41: 他当事者名
I42: 補助金等名
I43: 特記事項
B44: (10)特別試験研究費税額控除制度の利用 | D44: 【プルダウン】 | F44: 特別試験研究費税額控除とは：企業団体が他機関と共同研究や受託研究を実施した場合に、要した試験研究費の一部を法人税から控除できる制度。申請される場合、本学より経費執行の資料を提供可能ですので、研究終了時に改めてご連絡ください。

Sheet プルダウン用リスト
A1: (4)大学研究代表者・所属 | B1: (4)大学研究代表者・職名 | C1: (5)提供物品 | D1: (6)企業・団体区分 | E1: (7)外部に開示して差し支えのある情報 | F1: (10)特別試験研究費税額控除制度の利用
A2: 【プルダウン】 | B2: 【プルダウン】 | C2: 【プルダウン】 | D2: 【プルダウン】 | E2: 【プルダウン】 | F2: 【プルダウン】
A3: 情報データ科学部 | B3: 教授 | C3: あり | D3: 民間・大企業 | E3: あり | F3: あり
A4: 大学院国際資源学研究科 | B4: 准教授 | C4: 特になし | D4: 民間・中小企業 | E4: 特になし | F4: 特になし
A5: 大学院教育学研究科 | B5: 講師 | D5: 独立行政法人
A6: 教育文化学部 | B6: 助教 | D6: 公益法人等
A7: 大学院理工学研究科 | B7: 特別教授 | D7: 地方公共団体
A8: 大学院医学系研究科 | B8: 特任教授 | D8: 外国政府機関
A9: 医学部附属病院 | B9: 特任准教授 | D9: 外国企業
A10: 情報統括センター | B10: 特任講師 | D10: 大学
A11: 評価・ＩＲセンター | B11: 特任助教 | D11: その他
A12: 高等教育グローバルセンター | B12: 寄附講座等教員
A13: 保健管理センター | B13: 医員
A14: 電動化システム共同研究センター
A15: 自殺予防総合研究センター
A16: 教職課程・キャリア支援センター
A17: 未来研究統括機構イノベーションオフィス
A18: 未来研究統括機構臨床研究支援オフィス
A19: バイオサイエンス教育・研究サポートセンター

Sheet 契約書差込用
A1: 機関名称 | B1: 研究題目 | C1: 研究目的及び内容 | D1: 所属 | E1: 氏名 | F1: 職名 | G1: 研究期間（開始） | H1: 研究期間（終了） | I1: 提供物品 | J1: 研究場所
A2: =申込書!I4 -> 0 | B2: =申込書!D13 -> 0 | C2: =申込書!D14 -> 0 | D2: =申込書!E15 -> 【プルダウン】 | E2: =申込書!I15 -> 0 | F2: =申込書!N15 -> 【プルダウン】 | G2: =申込書!D28 -> 0 | H2: =申込書!G28 -> 0 | I2: =IF(申込書!D29="あり",申込書!I29,"特になし") -> 特になし | J2: =申込書!E15 -> 【プルダウン】
