Workbook

Sheet 申請書（機関）
J1: 作成日
B2: 国立大学法人秋田大学長 殿
G3: 機関住所
G4: 機関名称
G5: 代表者役職
G6: 代表者氏名
B8: 秋田大学との共同研究申請書
B10: 国立大学法人秋田大学における民間機関等との共同研究取扱規程第８条第１項の規定に基づき，下記のとおり共同研究を実施いたしたく申請します。
B11: 記
B13: (1)研究題目
B14: (2)研究期間 | F14: ～
B15: (3)大学研究代表者 | D15: 所属・職名 | H15: 氏名
B16: (4)民間機関等共同研究員の派遣 | F16: →「有」の場合は裏面「民間機関等共同研究員調書」を記載ください。
D17: 民間機関等共同研究員とは：民間機関等において研究業務に従事している職員が、研究の遂行のために在職のまま大学に派遣される場合に民間機関等共同研究員として受け入れを行います。大学に常駐し共同研究に従事する者を指すため、散発的に大学に訪問する場合は該当しません。
B18: (5)秋田大学に提供する研究費
B19: 費目 | D19: 契約締結時納入経費 | H19: 年度 | I19: ※１ | K19: 年度 | L19: ※１
B20: 直接経費 | F20: 円 | I20: 円 | L20: 円
B21: 管理経費 | F21: 円 | I21: 円 | L21: 円
B22: 研究料 ※２ | F22: 円 | I22: 円 | L22: 円
B23: 研究経費小計 | D23: =SUM(D20:E22) -> 0 | F23: 円 | G23: =SUM(G20:H22) -> 0 | I23: 円 | J23: =SUM(J20:K22) -> 0 | L23: 円 | M23: (自動計算)
B24: 消費税（計算用） | D24: =D23/110*10 -> 0 | F24: 円 | G24: =G23/110*10 -> 0 | I24: 円 | J24: =J23/110*10 -> 0 | L24: 円
B25: うち消費税額 | D25: =ROUNDDOWN(D24,0) -> 0 | F25: 円 | G25: =ROUNDDOWN(G24,0) -> 0 | I25: 円 | J25: =ROUNDDOWN(J24,0) -> 0 | L25: 円 | M25: (自動計算)
B26: ※１：研究経費を複数年度で分割して納付する場合にのみ記載ください。 ※２：研究料は民間機関等共同研究員の派遣に伴い生じる経費ですので、(3)が「有」の場合のみ記載ください。 | G26: 直接経費（全期間合計） | J26: =SUM(D20,G20,J20) -> 0 | L26: 円 | M26: (自動計算)
G27: 管理経費（全期間合計） | J27: =SUM(D21,G21,J21) -> 0 | L27: 円 | M27: (自動計算)
G28: 研究料（全期間合計） | J28: =SUM(D22,G22,J22) -> 0 | L28: 円 | M28: (自動計算)
G29: 研究経費（全期間合計） | J29: =SUM(D23,G23,J23) -> 0 | L29: 円 | M29: (自動計算)
G30: うち消費税額（全期間合計） | J30: =SUM(D24,G24,J24) -> 0 | L30: 円 | M30: (自動計算)
B31: (6)秋田大学に搬入する機械・設備 | D31: 【プルダウン】 | G31: 名称 | J31: 規格 | M31: 台数
D32: →「あり」の場合、右欄に詳細を記載ください。
B35: (7)研究体制 民間機関等共同研究員は氏名の前に◎を記載ください。 | D35: 氏 名 | G35: 所属部署 | I35: 職名 | K35: 研究上の役割分担
B41: (8)自社研究実施施設 | G41: (10)自社内使用機械・設備等
G42: 名称 | J42: 規格 | M42: 台数
B44: (9)自社内研究経費 （秋田大学に提供する研究費以外の研究費）
F45: 円
B46: (11)企業情報
B47: 主な事業内容 | J47: 企業区分 （選択式） | K47: 【プルダウン】
B48: 担当者連絡先 ①と②の宛先が同じ場合②は記載不要。 | F48: ①契約調整担当者 | J48: ②書類送付連絡先
D49: 氏名
D50: 所属部署名
D51: 郵便番号
D52: 住所
D53: 建物名
D54: 電話番号
D55: メールアドレス
B56: (12)外部に開示して差し支えのある情報 | D56: 【プルダウン】 | F56: →「あり」の場合その具体的な内容
B57: (13)特記事項 | H57: 他当事者名
H58: 補助金等名
H59: 特記事項
B60: (14)特別試験研究費税額控除制度の利用 | D60: 【プルダウン】 | F60: 特別試験研究費税額控除とは：企業団体が他機関と共同研究や受託研究を実施した場合に、要した試験研究費の一部を法人税から控除できる制度。申請される場合、本学より経費執行の資料を提供可能ですので、研究終了時に改めてご連絡ください。
B62: 民間機関等共同研究員調書（共同研究員派遣が有る場合のみ記載）
B63: カナ | G63: 生年月日 | K63: 年齢
B64: 氏名 | G64: 性別
B65: 所属部署 | H65: 職 名
B66: 現住所
B67: 学 歴 ※高校相当以降の学歴を記載ください。 | D67: 卒業・終了年月 | F67: 事項
F68: ○○県立○○高校 卒業
B72: 職 歴 | D72: 年 月 | F72: 事項
B76: 学会及び社会における活動等 | D76: 年 月 | F76: 事項
B80: 研究業績 | D80: 年 月 | F80: 著書，論文等名称 | J80: 単・共著の別 | K80: 事項
B84: 摘要欄

Sheet 差込用
A1: 機関１名称 | B1: 機関１提供機器名称① | C1: 機関１提供機器規格① | D1: 機関１提供機器台数① | E1: 機関１提供機器名称② | F1: 機関１提供機器規格② | G1: 機関１提供機器台数② | H1: 機関１提供機器名称③ | I1: 機関１提供機器規格③ | J1: 機関１提供機器台数③ | K1: 機関１分担者①氏名 | L1: 機関１分担者①部局 | M1: 機関１分担者①職名 | N1: 機関１分担者①役割分担 | O1: 機関１分担者②氏名 | P1: 機関１分担者②部局 | Q1: 機関１分担者②職名 | R1: 機関１分担者②役割分担 | S1: 機関１分担者③氏名 | T1: 機関１分担者③部局 | U1: 機関１分担者③職名 | V1: 機関１分担者③役割分担 | W1: 機関１分担者④氏名 | X1: 機関１分担者④部局 | Y1: 機関１分担者④職名 | Z1: 機関１分担者④役割分担 | AA1: 機関１分担者⑤氏名 | AB1: 機関１分担者⑤部局 | AC1: 機関１分担者⑤職名 | AD1: 機関１分担者⑤役割分担 | AE1: 機関１施設 | AF1: 機関１自社内研究費 | AG1: 機関１機器名称① | AH1: 機関１機器規格① | AI1: 機関１機器台数① | AJ1: 機関１機器名称② | AK1: 機関１機器規格② | AL1: 機関１機器台数② | AM1: 機関１機器名称③ | AN1: 機関１機器規格③ | AO1: 機関１機器台数③
A2: ='申請書（機関）'!I4 -> 0 | B2: ='申請書（機関）'!G32 -> 0 | C2: ='申請書（機関）'!J32 -> 0 | D2: ='申請書（機関）'!M32 -> 0 | E2: ='申請書（機関）'!G33 -> 0 | F2: ='申請書（機関）'!J33 -> 0 | G2: ='申請書（機関）'!M33 -> 0 | H2: ='申請書（機関）'!G34 -> 0 | I2: ='申請書（機関）'!J34 -> 0 | J2: ='申請書（機関）'!M34 -> 0 | K2: ='申請書（機関）'!D36 -> 0 | L2: ='申請書（機関）'!G36 -> 0 | M2: ='申請書（機関）'!I36 -> 0 | N2: ='申請書（機関）'!K36 -> 0 | O2: ='申請書（機関）'!D37 -> 0 | P2: ='申請書（機関）'!G37 -> 0 | Q2: ='申請書（機関）'!I37 -> 0 | R2: ='申請書（機関）'!K37 -> 0 | S2: ='申請書（機関）'!D38 -> 0 | T2: ='申請書（機関）'!G38 -> 0 | U2: ='申請書（機関）'!I38 -> 0 | V2: ='申請書（機関）'!K38 -> 0 | W2: ='申請書（機関）'!D39 -> 0 | X2: ='申請書（機関）'!G39 -> 0 | Y2: ='申請書（機関）'!I39 -> 0 | Z2: ='申請書（機関）'!K39 -> 0 | AA2: ='申請書（機関）'!D40 -> 0 | AB2: ='申請書（機関）'!G40 -> 0 | AC2: ='申請書（機関）'!I40 -> 0 | AD2: ='申請書（機関）'!K40 -> 0 | AE2: ='申請書（機関）'!B43 -> 0 | AF2: ='申請書（機関）'!B45 -> 0 | AG2: ='申請書（機関）'!G43 -> 0 | AH2: ='申請書（機関）'!J43 -> 0 | AI2: ='申請書（機関）'!M43 -> 0 | AJ2: ='申請書（機関）'!G44 -> 0 | AK2: ='申請書（機関）'!J44 -> 0 | AL2: ='申請書（機関）'!M44 -> 0 | AM2: ='申請書（機関）'!G45 -> 0 | AN2: ='申請書（機関）'!J45 -> 0 | AO2: ='申請書（機関）'!M45 -> 0

Sheet プルダウン用リスト
A1: (5)提供物品 | B1: (6)企業・団体区分 | C1: (7)外部に開示して差し支えのある情報 | D1: (14)特別試験研究費税額控除制度の利用
A2: 【プルダウン】 | B2: 【プルダウン】 | C2: 【プルダウン】 | D2: 【プルダウン】
A3: あり | B3: 民間・大企業 | C3: あり | D3: あり
A4: 特になし | B4: 民間・中小企業 | C4: 特になし | D4: 特になし
B5: 独立行政法人
B6: 公益法人等
B7: 地方公共団体
B8: 外国政府機関
B9: 外国企業
B10: 大学
B11: その他
